BEGIN:VCALENDAR
VERSION:2.0
PRODID:-//eventon.com NONSGML v1.0//EN
BEGIN:VEVENT
UID:69e737f0820a0
DTSTAMP:20260421T084016
DTSTART:20220730T200000Z
DTEND:20220730T230000Z
TZID:Pacific/Midway
LOCATION:
SUMMARY:SHELBYVILLE\, TN
DESCRIPTION: SHELBYVILLE\, TN\nhttps://calibre50.co/events/shelbyvilletn/
URL:https://calibre50.co/events/shelbyvilletn/
END:VEVENT
END:VCALENDAR