BEGIN:VCALENDAR
VERSION:2.0
PRODID:-//eventon.com NONSGML v1.0//EN
BEGIN:VEVENT
UID:69e734be5edbf
DTSTAMP:20260421T082638
DTSTART:20231006T200000Z
DTEND:20231006T230000Z
TZID:Pacific/Midway
LOCATION:
SUMMARY:GREENVILLE SC
DESCRIPTION: https://boletaje.com/detalles_evento.php?id_evento=2440\nhttps://calibre50.co/events/greenville-sc-2/
URL:https://calibre50.co/events/greenville-sc-2/
END:VEVENT
END:VCALENDAR